BEGIN:VCALENDAR
VERSION:2.0
PRODID:-//Sondra Ray Loving Relationships / Liberation Breathing - ECPv6.15.20//NONSGML v1.0//EN
CALSCALE:GREGORIAN
METHOD:PUBLISH
X-WR-CALNAME:Sondra Ray Loving Relationships / Liberation Breathing
X-ORIGINAL-URL:https://sondraray.com
X-WR-CALDESC:Events for Sondra Ray Loving Relationships / Liberation Breathing
REFRESH-INTERVAL;VALUE=DURATION:PT1H
X-Robots-Tag:noindex
X-PUBLISHED-TTL:PT1H
BEGIN:VTIMEZONE
TZID:America/New_York
BEGIN:DAYLIGHT
TZOFFSETFROM:-0500
TZOFFSETTO:-0400
TZNAME:EDT
DTSTART:20220313T070000
END:DAYLIGHT
BEGIN:STANDARD
TZOFFSETFROM:-0400
TZOFFSETTO:-0500
TZNAME:EST
DTSTART:20221106T060000
END:STANDARD
BEGIN:DAYLIGHT
TZOFFSETFROM:-0500
TZOFFSETTO:-0400
TZNAME:EDT
DTSTART:20230312T070000
END:DAYLIGHT
BEGIN:STANDARD
TZOFFSETFROM:-0400
TZOFFSETTO:-0500
TZNAME:EST
DTSTART:20231105T060000
END:STANDARD
BEGIN:DAYLIGHT
TZOFFSETFROM:-0500
TZOFFSETTO:-0400
TZNAME:EDT
DTSTART:20240310T070000
END:DAYLIGHT
BEGIN:STANDARD
TZOFFSETFROM:-0400
TZOFFSETTO:-0500
TZNAME:EST
DTSTART:20241103T060000
END:STANDARD
END:VTIMEZONE
BEGIN:VTIMEZONE
TZID:Europe/Brussels
BEGIN:DAYLIGHT
TZOFFSETFROM:+0100
TZOFFSETTO:+0200
TZNAME:CEST
DTSTART:20220327T010000
END:DAYLIGHT
BEGIN:STANDARD
TZOFFSETFROM:+0200
TZOFFSETTO:+0100
TZNAME:CET
DTSTART:20221030T010000
END:STANDARD
BEGIN:DAYLIGHT
TZOFFSETFROM:+0100
TZOFFSETTO:+0200
TZNAME:CEST
DTSTART:20230326T010000
END:DAYLIGHT
BEGIN:STANDARD
TZOFFSETFROM:+0200
TZOFFSETTO:+0100
TZNAME:CET
DTSTART:20231029T010000
END:STANDARD
BEGIN:DAYLIGHT
TZOFFSETFROM:+0100
TZOFFSETTO:+0200
TZNAME:CEST
DTSTART:20240331T010000
END:DAYLIGHT
BEGIN:STANDARD
TZOFFSETFROM:+0200
TZOFFSETTO:+0100
TZNAME:CET
DTSTART:20241027T010000
END:STANDARD
END:VTIMEZONE
BEGIN:VTIMEZONE
TZID:Atlantic/Canary
BEGIN:DAYLIGHT
TZOFFSETFROM:+0000
TZOFFSETTO:+0100
TZNAME:WEST
DTSTART:20220327T010000
END:DAYLIGHT
BEGIN:STANDARD
TZOFFSETFROM:+0100
TZOFFSETTO:+0000
TZNAME:WET
DTSTART:20221030T010000
END:STANDARD
BEGIN:DAYLIGHT
TZOFFSETFROM:+0000
TZOFFSETTO:+0100
TZNAME:WEST
DTSTART:20230326T010000
END:DAYLIGHT
BEGIN:STANDARD
TZOFFSETFROM:+0100
TZOFFSETTO:+0000
TZNAME:WET
DTSTART:20231029T010000
END:STANDARD
BEGIN:DAYLIGHT
TZOFFSETFROM:+0000
TZOFFSETTO:+0100
TZNAME:WEST
DTSTART:20240331T010000
END:DAYLIGHT
BEGIN:STANDARD
TZOFFSETFROM:+0100
TZOFFSETTO:+0000
TZNAME:WET
DTSTART:20241027T010000
END:STANDARD
END:VTIMEZONE
BEGIN:VEVENT
DTSTART;TZID=America/New_York:20231102T130000
DTEND;TZID=America/New_York:20231102T150000
DTSTAMP:20260421T095032
CREATED:20231026T203146Z
LAST-MODIFIED:20231026T204725Z
UID:19851-1698930000-1698937200@sondraray.com
SUMMARY:BREATHWORK & HEALING RELATIONSHIPS with SONDRA RAY
DESCRIPTION:A Free Lecture & Breathwork Session \nover\n \nwith\nSONDRA RAY\n“the Mother of Rebirthing/Breathwork”  \nand a Leading Authority on Conscious Breathing in the world.\n \n\n\nCheck Your Receipts for LOGIN INFO\nCheck your Spam Folder if not in your Inbox
URL:https://sondraray.com/programs-quests/breathwork-arabia/
LOCATION:ZOOM
ATTACH;FMTTYPE=image/png:https://sondraray.com/wp-content/uploads/2023/10/Copy-of-MANTRA-BREATHING-HEALING-STRESS.png
END:VEVENT
BEGIN:VEVENT
DTSTART;TZID=Europe/Brussels:20231109T190000
DTEND;TZID=Europe/Brussels:20231111T180000
DTSTAMP:20260421T095032
CREATED:20230221T005820Z
LAST-MODIFIED:20230926T192601Z
UID:17814-1699556400-1699725600@sondraray.com
SUMMARY:The LOVING RELATIONSHIPS TRAINING® - DOHA\, QATAR
DESCRIPTION:Join the Dynamic SONDRA RAY \nthe “Mother of Rebirthing”\nand the main Authority of Breathwork around the world. \nCreator of The LRT®  & Mantra Breathing® \nwith MARKUS RAY\nThe Loving Relationships Training® \nwill be presented in DOHA\, QATAR\nNOVEMBER 9 – 11\, 2023\nThursday 7PM – 10PM (Doha/Qatar Time)\nFriday 10AM – 6PM (Doha/Qatar Time)\nSaturday 10AM – 6PM (Doha/Qatar Time)\n\n \n\n\n\nVENUE: To Be Announced\nLIVE & Over ZOOM!\n\nExperience 3 Sessions of Breathwork in this Transformative Event !\n Get Clear on Your Relationships!\n\nThe Loving relationships Training is a three day breathwork training that focuses on Relationships. \n\nOne’s first “Loving  Relationship” is with the Self. And that is Holy. And this training makes that clear. We exist in Relationship with Everything: The Elements; Our God; Our Self; Our Family; Our Mate; Our work and Livelihood\, etc.  All of Life exists in Relationship. Whether our culture is “private” or “extroverted\,” it is all the same. Whether you have a partner or not. Whether you are “single” or not. It’s all about Relationships. And Love ❤️ is the true basis for that. \nThe LRT is for Couples or Singles alike. \n\n\nA single person can embody the essence of any relationship. A single flower starts the process of creating nectar. Just as a single participant in the LRT can have Love awakened in them during these three days of  deep Self-Introspection and Breathing in the Presence of the Divine Mother.\n\n\n♥ Deeper Connection\n♥ Better Communication\n♥ Conflict-Free Relationships\n♥ Spiritual Intimacy\n\nPrices for the  LOVING RELATIONSHIP TRAINING® including 3 Liberation Breathing Sessions with International Teachers and Healers SONDRA RAY & MARKUS RAY are as follows:\nRegister at the Bottom of this page:  Single: $750 USD / Couple: $1250 USD / Single + Private Liberation Breathing Session with SONDRA & MARKUS: $1125 USD \n\nThe LRT® is an Experiential Weekend on Relationships with Liberation Breathing as the Catalyst for Change and Healing. \n\nTHURSDAY-SATURDAY; NOV 9-11\, 2023\n\n\n\nCONTACT: \nMARYAM ALSUBAIEY /‭+974 7700 0830‬\nE-mail: maryam.a.alsubaiey@gmail.com
URL:https://sondraray.com/programs-quests/the-loving-relationships-training-doha-qatar/
LOCATION:DOHA
CATEGORIES:LRT
ATTACH;FMTTYPE=image/jpeg:https://sondraray.com/wp-content/uploads/2023/02/LRT-DOHA-QATAR-1.jpg
END:VEVENT
BEGIN:VEVENT
DTSTART;TZID=Atlantic/Canary:20231125T100000
DTEND;TZID=Atlantic/Canary:20231127T180000
DTSTAMP:20260421T095032
CREATED:20230926T205143Z
LAST-MODIFIED:20231119T063606Z
UID:19514-1700906400-1701108000@sondraray.com
SUMMARY:REVOLUTIONARY SPIRITUAL HEALING  - DUBAI\, UAE
DESCRIPTION:REVOLUTIONARY SPIRITUAL HEALING\nwith \nSONDRA RAY & MARKUS RAY \nTwo of the Leading Authorities on the Original Breathwork\n\n\nJoin us at the KEYANI WELLNESS CENTER\, \nin DUBAI\, UAE\nIn Person or Online over ZOOM\n \n\n\nNOVEMBER 25th —26th\, 2023\nTimes in DUBAI\, UAE:\n\nSATURDAY: 10:00AM – 06:00PM\nSUNDAY: 10:00AM – 06:00PM\nLive Over ZOOM all over the world ~!\n \n\nfor\n“REVOLUTIONARY SPIRITUAL HEALING” — \n2 SESSIONS of Liberation Breathing® INCLUDED\n\nYou may need our help with a health issue\, or you could be in perfect health already. You will receive the tools to raise your frequency so your life will be more harmonious and satisfactory\, creating the conditions for true healing. We will enter the “Sphere of Celestial Order” in which miracles are possible and healing is inevitable.  —Sondra Ray\n\n\n\nExperience “Revolutionary Spiritual Healing\,” a transformative workshop led by the renowned Sondra Ray and Markus Ray. Benefit from 2 Liberation Breathing®️ sessions\, gaining tools to elevate your frequency and create a harmonious life. \n\n\nUncover the real causes of stress and diseases rooted in thoughts\, conquer your most negative self-perceptions\, tap into your mind’s healing power\, and embrace innocence over guilt. Choose love in moments of fear\, commit to life for total healing\, and explore the philosophy\, physiology\, and psychology of “Physical Immortality.”\n\n\n*4 Key Benefits:*\n1. *Holistic Healing Tools:* Acquire a comprehensive set of tools addressing the mind-body connection\, empowering you to overcome stress\, diseases\, and negative thought patterns.\n2. *Expert Guidance:* Learn from Sondra Ray\, a pioneering Rebirthing master\, and Markus Ray\, as they share their profound insights and guide you through a deep dive into spiritual healing.\n3. *Transformational Wisdom:* Discover the secrets to living in innocence\, choosing love in the face of fear\, and committing to a life-affirming journey for total healing.\n4. *Personalized Experience:* Tailor your workshop experience with flexible pricing options\, including individual sessions\, couple packages\, and the exclusive Revolutionary Spiritual Healing with a private Liberation Breathing session.\nInvest in your well-being and join Sondra and Markus Ray on a transformative journey toward true healing.\n \n\n\nPRICES: \nSINGLE: $750 \nCOUPLE: $1250 \nRSH + PRIVATE LB SESSION: $1125 \n\nSONDRA RAY is one of the first Rebirthing masters in the world who discovered and wrote about using conscious connected breathing to help people heal their past. She knows how to teach you this\, and help you heal. Better than anyone else\, most likely. Join her for these days\, along with her consort\, MARKUS RAY\, for this deep dive into Spiritual Healing.  \n\n\nCONTACT: KEYANI WELLNESS CENTER\n 9 Street 29B – Al Manara – Dubai – United Arab Emirates\n+971 58 587 0799  \nE-mail: hello@keyaniwellness.com
URL:https://sondraray.com/programs-quests/rsh-dubai/
LOCATION:DUBAI\, United Arab Emirates
CATEGORIES:Seminars
ATTACH;FMTTYPE=image/png:https://sondraray.com/wp-content/uploads/2023/02/Copy-of-REVOLUTIONARY-SPIRITUAL-HEALING.png
END:VEVENT
END:VCALENDAR