BEGIN:VCALENDAR
VERSION:2.0
PRODID:-//Sondra Ray Loving Relationships / Liberation Breathing - ECPv6.15.20//NONSGML v1.0//EN
CALSCALE:GREGORIAN
METHOD:PUBLISH
X-ORIGINAL-URL:https://sondraray.com
X-WR-CALDESC:Events for Sondra Ray Loving Relationships / Liberation Breathing
REFRESH-INTERVAL;VALUE=DURATION:PT1H
X-Robots-Tag:noindex
X-PUBLISHED-TTL:PT1H
BEGIN:VTIMEZONE
TZID:Asia/Dubai
BEGIN:STANDARD
TZOFFSETFROM:+0400
TZOFFSETTO:+0400
TZNAME:+04
DTSTART:20220101T000000
END:STANDARD
END:VTIMEZONE
BEGIN:VEVENT
DTSTART;TZID=Asia/Dubai:20230310T183000
DTEND;TZID=Asia/Dubai:20230312T160000
DTSTAMP:20260421T211038
CREATED:20200204T221149Z
LAST-MODIFIED:20230222T171935Z
UID:3233-1678473000-1678636800@sondraray.com
SUMMARY:The LOVING RELATIONSHIPS TRAINING®
DESCRIPTION:The Loving Relationships Training® \nin \nDubai\nJoin SONDRA RAY \nthe “Mother of Rebirthing”\nFounder of Liberation Breathing® \nCreator of The LRT®  & Mantra Breathing® \nwith MARKUS RAY\n \n\n\nThe Loving Relationships Training® \nwill be presented\nAll over the Middle East\, UAE / India & China\nLIVE in Person and Over ZOOM~!\nMARCH 10-12\, 2023\nFriday 6:30 PM – 9:00 PM (Dubai Time; GMT+4)\nSaturday 10AM – 6PM (Dubai Time; GMT+4)\nSunday 10AM – 6PM (Dubai Time; GMT+4)\n\nin Eight 1.5 hr. Modules \nLIVE ONLINE OVER ZOOM~!\n \nVENUE: To Be Announced \n& In Your Own Living Room Over ZOOM!\n\nExperience 3 Sessions of Breathwork in this Transformative Event !\n Get Clear on Your Relationships!\n\nBreathe Into More Joy ! and “Have more fun per hour.”\nFind the exact message you need to hear to uplift your Relationships —\nThis practical and sacred seminar offers:\n♥ Deeper Connection\n♥ Better Communication\n♥ Conflict-Free Relationships\n♥ Spiritual Intimacy\n\nHave these in all your Relationships\, not just with your mate.\n \n\n\nPrices for the  LOVING RELATIONSHIP TRAINING® including 3 Liberation Breathing Sessions with International Teachers and Healers SONDRA RAY & MARKUS RAY are as follows:\nRegistration Rates:\nSingle:\n$695 USD\nCouple:\n$1295 USD\nSingle + Private Liberation Breathing Session with SONDRA & MARKUS:\n$1125 USD\n\nThe LRT® is an Experiential Weekend on Relationships with Liberation Breathing as the Catalyst for Change and Healing. \n\nFRI-SUN; MARCH 10-12\, 2023\n\n\nREGISTER BELOW and you will be e-mailed the LOGIN information and starting time for your area along with your receipt.  Those attending in person in Dubai\, lunches on Saturday and Sunday are provided by the LRT®\n↓↓↓↓↓↓↓↓
URL:https://sondraray.com/programs-quests/lrt-dubai/
LOCATION:DUBAI\, United Arab Emirates
CATEGORIES:LRT
ATTACH;FMTTYPE=image/jpeg:https://sondraray.com/wp-content/uploads/2020/02/Copy-of-Copy-of-DREAM-TEAM-LRT.jpg
END:VEVENT
END:VCALENDAR