BEGIN:VCALENDAR
VERSION:2.0
PRODID:-//Sondra Ray Loving Relationships / Liberation Breathing - ECPv6.15.20//NONSGML v1.0//EN
CALSCALE:GREGORIAN
METHOD:PUBLISH
X-WR-CALNAME:Sondra Ray Loving Relationships / Liberation Breathing
X-ORIGINAL-URL:https://sondraray.com
X-WR-CALDESC:Events for Sondra Ray Loving Relationships / Liberation Breathing
REFRESH-INTERVAL;VALUE=DURATION:PT1H
X-Robots-Tag:noindex
X-PUBLISHED-TTL:PT1H
BEGIN:VTIMEZONE
TZID:America/New_York
BEGIN:DAYLIGHT
TZOFFSETFROM:-0500
TZOFFSETTO:-0400
TZNAME:EDT
DTSTART:20220313T070000
END:DAYLIGHT
BEGIN:STANDARD
TZOFFSETFROM:-0400
TZOFFSETTO:-0500
TZNAME:EST
DTSTART:20221106T060000
END:STANDARD
BEGIN:DAYLIGHT
TZOFFSETFROM:-0500
TZOFFSETTO:-0400
TZNAME:EDT
DTSTART:20230312T070000
END:DAYLIGHT
BEGIN:STANDARD
TZOFFSETFROM:-0400
TZOFFSETTO:-0500
TZNAME:EST
DTSTART:20231105T060000
END:STANDARD
BEGIN:DAYLIGHT
TZOFFSETFROM:-0500
TZOFFSETTO:-0400
TZNAME:EDT
DTSTART:20240310T070000
END:DAYLIGHT
BEGIN:STANDARD
TZOFFSETFROM:-0400
TZOFFSETTO:-0500
TZNAME:EST
DTSTART:20241103T060000
END:STANDARD
END:VTIMEZONE
BEGIN:VEVENT
DTSTART;TZID=America/New_York:20230123T190000
DTEND;TZID=America/New_York:20230123T203000
DTSTAMP:20260421T235950
CREATED:20230108T020649Z
LAST-MODIFIED:20230122T204949Z
UID:17494-1674500400-1674505800@sondraray.com
SUMMARY:HEALING RELATIONSHIPS with LIBERATION BREATHING
DESCRIPTION:THE BONUS Liberation Breathing Session \nover ZOOM for those who attended\n“Healing Relationships with Liberation Breathing” \nis MONDAY\, JAN. 23\, 2023\, at 7PM EST.\nOnly for those who attended the event at THRIVE YOGA\n \nREGISTRATION REQUIRED BELOW \n\nSONDRA RAY & MARKUS RAY\npartnering with….\n\n\nONLINE Over\n\n \n\n\nTo PARTICIPATE in the BONUS LIBERATION BREATHING Session for this event\, Register BELOW. \n\nSondra & Markus will give and introductory talk\, then the BREATHE\, then group sharing after.\n\nSchedule: 7:00 PM – 8:30 PM \n(no later than 9:00PM) Eastern Standard Time\n\nREGISTER FOR YOUR TICKET\, then  you will be sent the LOGIN for ZOOM before the event. (check spam too!)
URL:https://sondraray.com/programs-quests/healing-relationships/
ATTACH;FMTTYPE=image/jpeg:https://sondraray.com/wp-content/uploads/2023/01/D8662D1B-596C-4E03-9B3A-7879608B7D83_1_105_c.jpeg
END:VEVENT
END:VCALENDAR