BEGIN:VCALENDAR
VERSION:2.0
PRODID:-//Sondra Ray Loving Relationships / Liberation Breathing - ECPv6.15.20//NONSGML v1.0//EN
CALSCALE:GREGORIAN
METHOD:PUBLISH
X-ORIGINAL-URL:https://sondraray.com
X-WR-CALDESC:Events for Sondra Ray Loving Relationships / Liberation Breathing
REFRESH-INTERVAL;VALUE=DURATION:PT1H
X-Robots-Tag:noindex
X-PUBLISHED-TTL:PT1H
BEGIN:VTIMEZONE
TZID:America/New_York
BEGIN:DAYLIGHT
TZOFFSETFROM:-0500
TZOFFSETTO:-0400
TZNAME:EDT
DTSTART:20210314T070000
END:DAYLIGHT
BEGIN:STANDARD
TZOFFSETFROM:-0400
TZOFFSETTO:-0500
TZNAME:EST
DTSTART:20211107T060000
END:STANDARD
BEGIN:DAYLIGHT
TZOFFSETFROM:-0500
TZOFFSETTO:-0400
TZNAME:EDT
DTSTART:20220313T070000
END:DAYLIGHT
BEGIN:STANDARD
TZOFFSETFROM:-0400
TZOFFSETTO:-0500
TZNAME:EST
DTSTART:20221106T060000
END:STANDARD
BEGIN:DAYLIGHT
TZOFFSETFROM:-0500
TZOFFSETTO:-0400
TZNAME:EDT
DTSTART:20230312T070000
END:DAYLIGHT
BEGIN:STANDARD
TZOFFSETFROM:-0400
TZOFFSETTO:-0500
TZNAME:EST
DTSTART:20231105T060000
END:STANDARD
END:VTIMEZONE
BEGIN:VEVENT
DTSTART;TZID=America/New_York:20220108T133000
DTEND;TZID=America/New_York:20220108T153000
DTSTAMP:20260424T224028
CREATED:20211230T015130Z
LAST-MODIFIED:20220103T175345Z
UID:14158-1641648600-1641655800@sondraray.com
SUMMARY:A BABAJI BREATHE
DESCRIPTION:“A BABAJI BREATHE” \nwith \nSondra Ray\n“The Mother of Breathwork”\n  \n      \nSATURDAY\, January 8th\, 2022 1:30 PM Eastern Time in USA \nMelbourne 5:30 AM on Monday; San Francisco 10:30 AM; London 6:30 PM; Copenhagen 7:30 PM; Tallinn 8:30 PM \n\nA BABAJI BREATHE…..\n…. is something different we are doing. It’s a “total immersion” in Babaji’s Energy\, using the sacred music of Babaji’s lineage\, and the catalyst of our own breath. Deep\, Circular and Connected breathing has been proven to rejuvenate the cells\, and help us let go of the past. And we feel great after an hour of this kind of breathing. We invite you to A BABAJI BREATHE with us.  We all participate in the breathing\, even us as we guide you through it. We play the Bhajans and the Music of Herakhan\, Babaji’s Ashram. It infuses us with a new Energy of natural immunity and strength to help us through these challenging times. \nWe Breathe one full hour\, and present a short talk before\, and sharing after the Breathe. We hope you will join us for A BABAJI BREATHE as soon as you can. We need this added Energy in our minds and bodies to stay strong in our spiritual convictions and faith.  —Love\, Sondra & Markus\n  \n \n  \nRegister Below: \n\nWhat people are saying about their  BREATHES WITH SONDRA RAY: \n“I felt like 1000 pounds had been lifted from my chest. I felt at one with everything and even my arthritis and stiffness in my body were so much better. It was the most powerful breath work session I had ever experienced. I went to sleep feeling like I was being cradled in the Mother’s arms\, and so grateful to be alive.” \nMS from HAWAII\n\n\nThere Will Be a Talk before the Breathe:\n“The Power of Sacred Music”\n  \nSondra\, Markus & the Presence of Babaji will guide you \nthrough a breathwork experience that can help you \nshift and transform your current relationships\ninto greater and greater realms of satisfaction.\nSet Yourself Up Like this for the Breathe over ZOOM:\n  \n \n  \n\n\nYou will be introduced to\nthe Power of A BABAJI BREATHE\nwith the Liberation Breathing Process. \n  \n  \n\nTICKETS BELOW\n\n  \n  \nREGISTER BELOW by Purchasing your Ticket.\nTHE “JOIN LINK” AND PARTICIPATION GUIDELINES \nare sent with your INVOICE RECEIPT \nimmediately after Registration. \n(Check Spam if you don’t see it.) 
URL:https://sondraray.com/programs-quests/a-babaji-breathe/
CATEGORIES:Group Breathes,Lectures
ATTACH;FMTTYPE=image/jpeg:https://sondraray.com/wp-content/uploads/2021/12/Copy-of-A-BABAJI-BREATHE-1400-x-790-px.jpg
END:VEVENT
END:VCALENDAR