BEGIN:VCALENDAR
VERSION:2.0
PRODID:-//Sondra Ray Loving Relationships / Liberation Breathing - ECPv6.15.20//NONSGML v1.0//EN
CALSCALE:GREGORIAN
METHOD:PUBLISH
X-WR-CALNAME:Sondra Ray Loving Relationships / Liberation Breathing
X-ORIGINAL-URL:https://sondraray.com
X-WR-CALDESC:Events for Sondra Ray Loving Relationships / Liberation Breathing
REFRESH-INTERVAL;VALUE=DURATION:PT1H
X-Robots-Tag:noindex
X-PUBLISHED-TTL:PT1H
BEGIN:VTIMEZONE
TZID:Europe/Brussels
BEGIN:DAYLIGHT
TZOFFSETFROM:+0100
TZOFFSETTO:+0200
TZNAME:CEST
DTSTART:20220327T010000
END:DAYLIGHT
BEGIN:STANDARD
TZOFFSETFROM:+0200
TZOFFSETTO:+0100
TZNAME:CET
DTSTART:20221030T010000
END:STANDARD
BEGIN:DAYLIGHT
TZOFFSETFROM:+0100
TZOFFSETTO:+0200
TZNAME:CEST
DTSTART:20230326T010000
END:DAYLIGHT
BEGIN:STANDARD
TZOFFSETFROM:+0200
TZOFFSETTO:+0100
TZNAME:CET
DTSTART:20231029T010000
END:STANDARD
BEGIN:DAYLIGHT
TZOFFSETFROM:+0100
TZOFFSETTO:+0200
TZNAME:CEST
DTSTART:20240331T010000
END:DAYLIGHT
BEGIN:STANDARD
TZOFFSETFROM:+0200
TZOFFSETTO:+0100
TZNAME:CET
DTSTART:20241027T010000
END:STANDARD
END:VTIMEZONE
BEGIN:VEVENT
DTSTART;TZID=Europe/Brussels:20231109T190000
DTEND;TZID=Europe/Brussels:20231111T180000
DTSTAMP:20260421T111657
CREATED:20230221T005820Z
LAST-MODIFIED:20230926T192601Z
UID:17814-1699556400-1699725600@sondraray.com
SUMMARY:The LOVING RELATIONSHIPS TRAINING® - DOHA\, QATAR
DESCRIPTION:Join the Dynamic SONDRA RAY \nthe “Mother of Rebirthing”\nand the main Authority of Breathwork around the world. \nCreator of The LRT®  & Mantra Breathing® \nwith MARKUS RAY\nThe Loving Relationships Training® \nwill be presented in DOHA\, QATAR\nNOVEMBER 9 – 11\, 2023\nThursday 7PM – 10PM (Doha/Qatar Time)\nFriday 10AM – 6PM (Doha/Qatar Time)\nSaturday 10AM – 6PM (Doha/Qatar Time)\n\n \n\n\n\nVENUE: To Be Announced\nLIVE & Over ZOOM!\n\nExperience 3 Sessions of Breathwork in this Transformative Event !\n Get Clear on Your Relationships!\n\nThe Loving relationships Training is a three day breathwork training that focuses on Relationships. \n\nOne’s first “Loving  Relationship” is with the Self. And that is Holy. And this training makes that clear. We exist in Relationship with Everything: The Elements; Our God; Our Self; Our Family; Our Mate; Our work and Livelihood\, etc.  All of Life exists in Relationship. Whether our culture is “private” or “extroverted\,” it is all the same. Whether you have a partner or not. Whether you are “single” or not. It’s all about Relationships. And Love ❤️ is the true basis for that. \nThe LRT is for Couples or Singles alike. \n\n\nA single person can embody the essence of any relationship. A single flower starts the process of creating nectar. Just as a single participant in the LRT can have Love awakened in them during these three days of  deep Self-Introspection and Breathing in the Presence of the Divine Mother.\n\n\n♥ Deeper Connection\n♥ Better Communication\n♥ Conflict-Free Relationships\n♥ Spiritual Intimacy\n\nPrices for the  LOVING RELATIONSHIP TRAINING® including 3 Liberation Breathing Sessions with International Teachers and Healers SONDRA RAY & MARKUS RAY are as follows:\nRegister at the Bottom of this page:  Single: $750 USD / Couple: $1250 USD / Single + Private Liberation Breathing Session with SONDRA & MARKUS: $1125 USD \n\nThe LRT® is an Experiential Weekend on Relationships with Liberation Breathing as the Catalyst for Change and Healing. \n\nTHURSDAY-SATURDAY; NOV 9-11\, 2023\n\n\n\nCONTACT: \nMARYAM ALSUBAIEY /‭+974 7700 0830‬\nE-mail: maryam.a.alsubaiey@gmail.com
URL:https://sondraray.com/programs-quests/the-loving-relationships-training-doha-qatar/
LOCATION:DOHA
CATEGORIES:LRT
ATTACH;FMTTYPE=image/jpeg:https://sondraray.com/wp-content/uploads/2023/02/LRT-DOHA-QATAR-1.jpg
END:VEVENT
END:VCALENDAR