BEGIN:VCALENDAR
VERSION:2.0
PRODID:-//Sondra Ray Loving Relationships / Liberation Breathing - ECPv6.15.20//NONSGML v1.0//EN
CALSCALE:GREGORIAN
METHOD:PUBLISH
X-ORIGINAL-URL:https://sondraray.com
X-WR-CALDESC:Events for Sondra Ray Loving Relationships / Liberation Breathing
REFRESH-INTERVAL;VALUE=DURATION:PT1H
X-Robots-Tag:noindex
X-PUBLISHED-TTL:PT1H
BEGIN:VTIMEZONE
TZID:Atlantic/Canary
BEGIN:DAYLIGHT
TZOFFSETFROM:+0000
TZOFFSETTO:+0100
TZNAME:WEST
DTSTART:20220327T010000
END:DAYLIGHT
BEGIN:STANDARD
TZOFFSETFROM:+0100
TZOFFSETTO:+0000
TZNAME:WET
DTSTART:20221030T010000
END:STANDARD
BEGIN:DAYLIGHT
TZOFFSETFROM:+0000
TZOFFSETTO:+0100
TZNAME:WEST
DTSTART:20230326T010000
END:DAYLIGHT
BEGIN:STANDARD
TZOFFSETFROM:+0100
TZOFFSETTO:+0000
TZNAME:WET
DTSTART:20231029T010000
END:STANDARD
BEGIN:DAYLIGHT
TZOFFSETFROM:+0000
TZOFFSETTO:+0100
TZNAME:WEST
DTSTART:20240331T010000
END:DAYLIGHT
BEGIN:STANDARD
TZOFFSETFROM:+0100
TZOFFSETTO:+0000
TZNAME:WET
DTSTART:20241027T010000
END:STANDARD
END:VTIMEZONE
BEGIN:VEVENT
DTSTART;TZID=Atlantic/Canary:20231006T180000
DTEND;TZID=Atlantic/Canary:20231008T180000
DTSTAMP:20260421T124846
CREATED:20230630T160812Z
LAST-MODIFIED:20230831T173841Z
UID:18553-1696615200-1696788000@sondraray.com
SUMMARY:REVOLUTIONARY SPIRITUAL HEALING  - Palm Springs\, CA/USA
DESCRIPTION:REVOLUTIONARY SPIRITUAL HEALING\nwith \nSONDRA RAY & MARKUS RAY \nTwo of the Leading Authorities on the Original Breathwork. \n\n\nJoin us in Palm Springs\, CALIFORNIA\, USA! \nIn Person or Online over ZOOM\n\n\nOCT 6th —8th\, 2023\nTimes in California/USA (PDT Time):\nFRIDAY: 6:00PM – 09:00PM \nSATURDAY: 10:00AM – 06:00PM\nSUNDAY: 10:00AM – 06:00PM\nLive Over ZOOM all over the world ~!\n \n\nfor\n“REVOLUTIONARY SPIRITUAL HEALING” — \n3 SESSIONS of Liberation Breathing® INCLUDED\n\nYou may need our help with a health issue\, or you could be in perfect health already\, you will receive the tools to raise your frequency so your life will be more harmonious and satisfactory\, creating the conditions for true healing. —Sondra Ray\n\n\n\nSondra & Markus’s most recent book\, Revolutionary Spiritual Healing\, taps into the part of you that knows it’s own perfection.  In this workshop you will receive the Healing Tools you need so you can: \n ♦ Understand the real “causes” of stress and diseases begin with thoughts \n♦ Overcome your “Most Negative Thought” about Yourself\n♦ Tap into the healing power of your own mind\n♦ Live in your Innocence instead of nagging “Guilt” \n♦ Choose Love when you are feeling Fear\n♦ Commit to LIFE not “death” in your choice to heal totally\n♦ Receive the Philosophy\, Physiology\, and Psychology of “Physical Immortality” \n \n\n\nPRICES: \nEARLYBIRD SINGLE: $650 (Good until SEPT 9\, 2023) \nEARLYBIRD COUPLE: $1200 (Good until SEPT 9\, 2023) \nREGULAR PRICE SINGLE: $750 (Starting SEPT 10\, 2023)\nREGULAR PRICE COUPLE: $1400 (Starting SEPT 10\, 2023)\n\nSONDRA RAY is one of the first Rebirthing masters in the world who discovered and wrote about using conscious connected breathing to help people heal their past. She knows how to teach you this\, and help you heal. Better than anyone else\, most likely. Join her for these days\, along with her consort\, MARKUS RAY\, for this deep dive into Spiritual Healing.  \n\nThis Seminar will be recorded. You can purchase and Indicate you wish to receive the Recordings. \n\nCONTACT: RANDI LYYN SOKOL \n+1 (310) 699-0405    \nE-mail: randilynnsokol@gmail.com\nVENUE \nMind & Body Breath Theraphy Center\n7 Chandra Lane – Rancho Mirage 92270 (California/USA)\nContact Randi for more INFO
URL:https://sondraray.com/programs-quests/revolutionary-spiritual-healing-california-usa/
LOCATION:PALM SPRINGS\, 7 Chandra Lane\, Rancho Mirage\, California\, 92270\, United States
CATEGORIES:Seminars
ATTACH;FMTTYPE=image/png:https://sondraray.com/wp-content/uploads/2023/02/Copy-of-REVOLUTIONARY-SPIRITUAL-HEALING.png
END:VEVENT
END:VCALENDAR