BEGIN:VCALENDAR
VERSION:2.0
PRODID:-//Sondra Ray Loving Relationships / Liberation Breathing - ECPv6.15.20//NONSGML v1.0//EN
CALSCALE:GREGORIAN
METHOD:PUBLISH
X-ORIGINAL-URL:https://sondraray.com
X-WR-CALDESC:Events for Sondra Ray Loving Relationships / Liberation Breathing
REFRESH-INTERVAL;VALUE=DURATION:PT1H
X-Robots-Tag:noindex
X-PUBLISHED-TTL:PT1H
BEGIN:VTIMEZONE
TZID:Atlantic/Canary
BEGIN:DAYLIGHT
TZOFFSETFROM:+0000
TZOFFSETTO:+0100
TZNAME:WEST
DTSTART:20220327T010000
END:DAYLIGHT
BEGIN:STANDARD
TZOFFSETFROM:+0100
TZOFFSETTO:+0000
TZNAME:WET
DTSTART:20221030T010000
END:STANDARD
BEGIN:DAYLIGHT
TZOFFSETFROM:+0000
TZOFFSETTO:+0100
TZNAME:WEST
DTSTART:20230326T010000
END:DAYLIGHT
BEGIN:STANDARD
TZOFFSETFROM:+0100
TZOFFSETTO:+0000
TZNAME:WET
DTSTART:20231029T010000
END:STANDARD
BEGIN:DAYLIGHT
TZOFFSETFROM:+0000
TZOFFSETTO:+0100
TZNAME:WEST
DTSTART:20240331T010000
END:DAYLIGHT
BEGIN:STANDARD
TZOFFSETFROM:+0100
TZOFFSETTO:+0000
TZNAME:WET
DTSTART:20241027T010000
END:STANDARD
END:VTIMEZONE
BEGIN:VEVENT
DTSTART;TZID=Atlantic/Canary:20230616T180000
DTEND;TZID=Atlantic/Canary:20230618T180000
DTSTAMP:20260421T180918
CREATED:20230221T202552Z
LAST-MODIFIED:20230421T020910Z
UID:17859-1686938400-1687111200@sondraray.com
SUMMARY:REVOLUTIONARY SPIRITUAL HEALING  - Tallinn\, Estonia
DESCRIPTION:REVOLUTIONARY SPIRITUAL HEALING \nwith Sondra Ray & Markus Ray \n\nJoin us in TALLINN\, ESTONIA! \nWith Estonian Translation \n\nJUNE 16th —18th\, 2023\nTimes in Tallinn:\nFRIDAY: 6:00PM – 09:30PM \nSATURDAY: 10:00AM – 06:00PM\nSUNDAY: 10:00AM – 06:00PM\nLive Over ZOOM all over the world ~!\n\nCome and choose perfect health for yourself all the time\, \nin physical and emotional level and allow wellbeing \nto flow in all the sectors of your life.\n\n\n \n\nfor\n“REVOLUTIONARY SPIRITUAL HEALING — \nA Weekend of Liberation Breathing®\n\nThis is a Liberation Breathing® Event\nin Person and over Zoom\nStarting JUNE 16th\, 2023\, at 6PM\nwith \nSONDRA RAY & MARKUS RAY\n\nBeing in perfect health already\, you will receive the tools \nto raise your frequency so your life will be \nmore harmonious and satisfactory.\n\n\n\nRevolutionary Spiritual Healing taps into the part of you that knows it’s own perfection.  Receive the Healing Tools you need so you can: \n ♦ Understand the real “causes” of stress and diseases begin with thoughts \n♦ Overcome your “Most Negative Thought” about Yourself\n♦ Tap into the healing power of your own mind\n♦ Live in your Innocence instead of nagging “Guilt” \n♦ Choose Love when you are feeling Fear\n♦ Commit to LIFE not “death” in your choice to heal totally\n♦ Receive the Philosophy\, Physiology\, and Psychology of “Physical Immortality” \n \n\nHealing That Is Total: \nWe go to Doctors and Medical Practitioners to heal our bodies\, but we seldom ask about the “cause” of our diseases. The mind is the ruler of the body\, and all negative physical symptoms begin as negative thoughts and feelings in the mind. Revolutionary Spiritual Healing addresses the true “cause” of sickness and disease and gives you tools to heal it at the source where disease is made. Healing that is total and permanent would have to reveal this “cause” and help you heal it. \nThis approach is Revolutionary Spiritual Healing. We are not accustomed to questioning the mind as the source of all disease\, so we need to practice this process. What is it you need help in healing? It could be an emotional issue. It could be grief from the death of a loved one. It could be a chronic issue in your body you have had for years that you need help in unraveling. It could be a relationship problem that is actually making you sick. We will look at the “cause” and not merely treat the “symptom.” And we will use Liberation Breathing to help you “liberate yourself” from the mental causes of your distress. \nSONDRA RAY is one of the first Rebirthing masters in the world who discovered and wrote about using conscious connected breathing to help people heal their past. She knows how to teach you this\, and help you heal. Better than anyone else\, most likely. Join her for these days\, along with her consort\, MARKUS RAY\, for this deep dive into Spiritual Healing.  \n\n\n\nJoin SONDRA RAY\, the “Mother of Rebirthing / Breathwork” and her “twin flame” MARKUS RAY\, presenter of A Course in Miracles\, for this Weekend of Liberation Breathing and….\n\nRevolutionary Spiritual Healing\n\n There will be 5 Lectures and 3 Sessions of  Liberation Breathing®\n \n\n\n\n\n\n\n\nOFFERED OVER ZOOM: \nAlso over ZOOM in LONDON: Starts Friday at 4PM (LONDON TIME)\nAlso over ZOOM in NEW YORK: Starts Friday at 11AM (NEW YORK TIME)\nAlso over ZOOM in COPENHAGEN: Starts Friday at 5PM (CENTRAL EU TIME)\n \nThis Seminar will be recorded. You can purchase and Indicate you wish to receive the Recordings. \n\n\nSondra Ray and Markus Ray invite you to : “REVOLUTIONARY SPIRITUAL HEALING—A Weekend of Liberation Breathing.” Join them to replace your old mind and have a new Mind of Divine Connection. Awaken to a higher LOVE that will bring a greater sense of HEALTH into your life. Get “rebirthed” into your Being as a Holy Child of God. Sondra & Markus will discuss the principles they use\, and many more. They will help you integrate all levels in you with Breathwork. They will help you make contact with the Divine Mother. All this is through your own BREATH. \nHow can our BREATH heal our mental and physical bodies? \n\nCome and find out!Our BREATH awakensMIRACLES. COME BREATHE TOGETHERwith US\n\nCONTACT: PILLE TALI;  +372 5904 5023‬    E-mail: pilletali@gmail.com\nVENUE TO BE ANNOUNCED \nContact Pille for more INFO
URL:https://sondraray.com/programs-quests/revolutionary-spiritual-healing-tallinn-estonia/
LOCATION:TALLINN\, ESTONIA & ZOOM
CATEGORIES:Seminars
ATTACH;FMTTYPE=image/png:https://sondraray.com/wp-content/uploads/2023/02/Copy-of-REVOLUTIONARY-SPIRITUAL-HEALING.png
END:VEVENT
END:VCALENDAR