BEGIN:VCALENDAR
VERSION:2.0
PRODID:-//Sondra Ray Loving Relationships / Liberation Breathing - ECPv6.15.20//NONSGML v1.0//EN
CALSCALE:GREGORIAN
METHOD:PUBLISH
X-ORIGINAL-URL:https://sondraray.com
X-WR-CALDESC:Events for Sondra Ray Loving Relationships / Liberation Breathing
REFRESH-INTERVAL;VALUE=DURATION:PT1H
X-Robots-Tag:noindex
X-PUBLISHED-TTL:PT1H
BEGIN:VTIMEZONE
TZID:America/New_York
BEGIN:DAYLIGHT
TZOFFSETFROM:-0500
TZOFFSETTO:-0400
TZNAME:EDT
DTSTART:20210314T070000
END:DAYLIGHT
BEGIN:STANDARD
TZOFFSETFROM:-0400
TZOFFSETTO:-0500
TZNAME:EST
DTSTART:20211107T060000
END:STANDARD
BEGIN:DAYLIGHT
TZOFFSETFROM:-0500
TZOFFSETTO:-0400
TZNAME:EDT
DTSTART:20220313T070000
END:DAYLIGHT
BEGIN:STANDARD
TZOFFSETFROM:-0400
TZOFFSETTO:-0500
TZNAME:EST
DTSTART:20221106T060000
END:STANDARD
BEGIN:DAYLIGHT
TZOFFSETFROM:-0500
TZOFFSETTO:-0400
TZNAME:EDT
DTSTART:20230312T070000
END:DAYLIGHT
BEGIN:STANDARD
TZOFFSETFROM:-0400
TZOFFSETTO:-0500
TZNAME:EST
DTSTART:20231105T060000
END:STANDARD
END:VTIMEZONE
BEGIN:VEVENT
DTSTART;TZID=America/New_York:20220701T180000
DTEND;TZID=America/New_York:20220703T180000
DTSTAMP:20260422T093907
CREATED:20211228T194131Z
LAST-MODIFIED:20220608T144138Z
UID:14153-1656698400-1656871200@sondraray.com
SUMMARY:SPIRITUAL CLEANING TRAINING
DESCRIPTION:Join us! JULY 1-3\, 2022 \nin TALLINN\, Estonia  🇪🇪\n\nfor\nA SPIRITUAL CLEANING TRAINING: \n\nA Liberation Breathing® Event\nIn Person \nJULY 1-3\, 2022\nwith \nSONDRA RAY & MARKUS RAY\n\n\nTake time out for a Spiritual Cleaning\, Mastering your Mind with Spiritual Practices so you can: \n\n\n\n\n Understand How your Birth affects your Relationships in Life \n\n\nOvercome your “Most Negative Thought” about Yourself\n\n\nBe in your Power with Peace\, not Anger \n\n\nLive in your Innocence instead of nagging “Guilt” \n\n\nChoose Love when you are feeling Fear\n\n\nCommit your Relationship to be a “conflict-free” one \n\n\nObserve Family Patterns repeat in your Life\n\n\n\n\n\nHealing The Birth Script: \nWhat were your parents thinking when you were conceived? Were you planned\, or were you an accident—on a fun night with no birth control plan at all? Were you wanted as a boy\, and you came out a girl? What was going on inside the womb when you were taking shape? Was your Mother eating well\, or was she a toxic waste dump of nicotine\, junk food\, or even alcohol? Were your folks getting along while you were in the womb? Or were they having knock-down-drag-out fights every other night? Did someone close in your family pass away? Did Grandma “kick the bucket?” How did it feel “in there” getting bigger and bigger; did you feel trapped with “no exit terror?” When you were “coming out\,” how was that? Did your head get stuck; were you backwards? Were you early\, late\, premature? When you came out\, did the doctors cut your chord too soon\, and throw you into a panic to take your first breath? Did they hold you upside down and slap you on the butt because you were not breathing?  Were you stuck in an incubator? put aside on a cold stainless steel table? Come on now guys—how did it feel when they circumcised your “little guy?” That could not have felt good. Painful and Scary! Then\, were you stuck in a nursery\, away from your Mom? No mother’s milk there. Did you even get breastfed? Hey you gals\, did Dad say\, “Damn\, I really wanted a boy?” That probably was a blow to your self-esteem. Did your Dad even stick around? Was he having an affair? Working all the time? Not working at all and out of money? All of these factors are what we would call your “Birth Script.” And the trauma from these events affects your life and the decisions you make about your life —long into your adulthood.\nSONDRA RAY is one of the first Rebirthing masters in the world who discovered and wrote about all of this “Birth Trauma.” She knows how to teach you this\, and get you over it. Better than anyone else\, most likely. Consider yourself LUCKY to get to work with her. Om Namah Shivay!\n\n\n\nJoin SONDRA RAY\, the “Mother of Rebirthing / Breathwork” and her “twin flame” MARKUS RAY\, presenter of A Course in Miracles\, for this weekend of Breathwork & Deep Spiritual Cleansing.\n\n There will be 3 Sessions of  Liberation Breathing®\n \n\n\n\nSondra Ray and Markus Ray present A Course in Miracles in a totally different way\, along with Breathwork that helps people clear their hidden “shadows.” “Fear\, Anger\, and Guilt” are sabotaging our happiness until we remove them from our Mind.  Breathwork helps us do that\, and having a spiritual practice like doing the Lessons of A Course in Miracles keeps us evolving into more joy. \nThe weekend consists of various lectures\, processes\, and 3 Breathwork Sessions.  People will breathe on Friday\, Saturday and Sunday. \nBreathwork is a guided deep\, circular breathing meditation that will help you release stress\, concerns\, tensions in the body\, and help to integrate the subjects and processes discussed in the classes. Come and discover a Divine Connection to the Life Force\, your Source Energy\, and the Power of your Higher Self. The weekend can offer your these results: \n❖ Inner peace\n❖ Certainty of Your Purpose\n❖ Harmonious Relationships\n❖ Freedom from Negativity\n❖ Creative Inspiration\n❖ More Fun Per Hour\n❖ Inner Clarity\n❖ More Self-Care and Love\n❖ Original Innocence\n❖ Conflict-Free Communication\n❖ Courage to Face the Unknown\n❖ Sustained Happiness\n\n\n\nStarting Times:\nJULY 1st\, FRIDAY : \n6PM TALLINN\, ESTONIA\n\nJULY 2nd\, SATURDAY :\n10AM TALLINN\, ESTONIA\n\nJULY 3rd\, SUNDAY :\n10AM TALLINN\, ESTONIA\n\n\nSondra Ray and Markus Ray invite you to this Three-Day Liberation Breathing Weekend: “SPIRITUAL CLEANING: A LIBERATION BREATHING WEEKEND.”  Join them to clean out your old mind and have a new Mind of  Divine Connection. Awaken to a higher LOVE that will bring a greater sense of BOUNTY into your life. Welcome the Spring Solstice and be “rebirthed” into your Being as a Holy Child of God. Sondra & Markus will discuss the principles they use\, and many more given to us in A Course in Miracles. They will help you integrate all levels in you with Breathwork. They will help you make contact with the Divine Mother. All this is through your own BREATH. \nHow can our BREATH clean our mental and physical bodies? \n\nCome and find out!Our BREATH awakensMIRACLES. COME BREATHE TOGETHERwith US\n\nCONTACT: PILLE TALI; +372 5904 5023  pilletali@gmail.com
URL:https://sondraray.com/programs-quests/spiritual-cleaning/
LOCATION:TALLINN\, ESTONIA & ZOOM
CATEGORIES:Miracle Consciousness,Seminars
ATTACH;FMTTYPE=image/png:https://sondraray.com/wp-content/uploads/2021/12/19F8051B-2934-417B-BAA8-339426B47FB2.png
END:VEVENT
END:VCALENDAR