BEGIN:VCALENDAR
VERSION:2.0
PRODID:-//Sondra Ray Loving Relationships / Liberation Breathing - ECPv6.15.20//NONSGML v1.0//EN
CALSCALE:GREGORIAN
METHOD:PUBLISH
X-ORIGINAL-URL:https://sondraray.com
X-WR-CALDESC:Events for Sondra Ray Loving Relationships / Liberation Breathing
REFRESH-INTERVAL;VALUE=DURATION:PT1H
X-Robots-Tag:noindex
X-PUBLISHED-TTL:PT1H
BEGIN:VTIMEZONE
TZID:America/New_York
BEGIN:DAYLIGHT
TZOFFSETFROM:-0500
TZOFFSETTO:-0400
TZNAME:EDT
DTSTART:20210314T070000
END:DAYLIGHT
BEGIN:STANDARD
TZOFFSETFROM:-0400
TZOFFSETTO:-0500
TZNAME:EST
DTSTART:20211107T060000
END:STANDARD
BEGIN:DAYLIGHT
TZOFFSETFROM:-0500
TZOFFSETTO:-0400
TZNAME:EDT
DTSTART:20220313T070000
END:DAYLIGHT
BEGIN:STANDARD
TZOFFSETFROM:-0400
TZOFFSETTO:-0500
TZNAME:EST
DTSTART:20221106T060000
END:STANDARD
BEGIN:DAYLIGHT
TZOFFSETFROM:-0500
TZOFFSETTO:-0400
TZNAME:EDT
DTSTART:20230312T070000
END:DAYLIGHT
BEGIN:STANDARD
TZOFFSETFROM:-0400
TZOFFSETTO:-0500
TZNAME:EST
DTSTART:20231105T060000
END:STANDARD
END:VTIMEZONE
BEGIN:VEVENT
DTSTART;TZID=America/New_York:20220612T120000
DTEND;TZID=America/New_York:20220612T130000
DTSTAMP:20260422T111359
CREATED:20211019T035902Z
LAST-MODIFIED:20220607T195758Z
UID:13684-1655035200-1655038800@sondraray.com
SUMMARY:OUTSIDE THE BOX with BABAJI
DESCRIPTION:“Letting Go: Achieving Relaxation and Safety”\n( OUTSIDE THE BOX with BABAJI )\na  RAY TALK™  by\nSONDRA RAY\n\n“A READING and A BREATHE from my New Book”\n\n given over \n \n  \nThis Lecture will be  live on SUNDAY\, JUNE 12th\, 2022\nat 12:00 Noon\, Eastern USA Time. \nAttend LIVE or order the RECORDING below\, \nand listen at your own leisure.\n\n\n\nOTHER TIMES AROUND THE WORLD: \nNEW YORK: 12:00 NOON \nCHICAGO: 11:00 AM\nSANTA FE: 10:00 AM\nSAN FRANCISCO: 9:00 AM\nLONDON: 5:00 PM\nCOPENHAGEN: 6:00 PM\nWARSAW: 6:00 PM\nTALLINN: 7:00 PM\nBEIRUT: 7:00 PM\nDUBAI: 9:00 PM\n  \n\n\nListen to this key lecture by Sondra Ray\n\nOUTSIDE THE BOX with BABAJI   \nSondra on “Letting Go: Achieving Relaxation and Safety”\n\n\n\n“When you totally let go God takes over and all your needs are met. Letting go is actually fun. We need to learn how to let go of negativity and conditions in the body. There is an art to letting go.The ideal would be that we could stay relaxed no matter what. I will talk about how to achieve that. The ideal would be to be able to feel safe all of the time no matter what. We need to clear out anything that makes us feel unsafe.It is fully possible to let go totally\, be totally relaxed and safe all the time. Please join me for the reading of these topics from my new book OUTSIDE THE BOX WITH BABAJI”\n\n\n\n\nLove\,\n—Sondra \n  \n \n\nAfter Purchasing your ticket\, you will receive the LINK for this Sunday’s RAY TALK (It is above your purchase receipt)\n  \nPurchase this TALK or RECORDING  based on your Inspiration to support the spiritual work and mission of Sondra Ray & Markus Ray\n\n(If you do not see your receipt in your Inbox\, check your Junk folder.)
URL:https://sondraray.com/programs-quests/outside-the-box-with-babaji/
CATEGORIES:Lectures
ATTACH;FMTTYPE=image/jpeg:https://sondraray.com/wp-content/uploads/2021/10/Copy-of-Outside-the-Box-with-Babaji-1.jpg
END:VEVENT
END:VCALENDAR