BEGIN:VCALENDAR
VERSION:2.0
PRODID:-//Sondra Ray Loving Relationships / Liberation Breathing - ECPv6.15.20//NONSGML v1.0//EN
CALSCALE:GREGORIAN
METHOD:PUBLISH
X-WR-CALNAME:Sondra Ray Loving Relationships / Liberation Breathing
X-ORIGINAL-URL:https://sondraray.com
X-WR-CALDESC:Events for Sondra Ray Loving Relationships / Liberation Breathing
REFRESH-INTERVAL;VALUE=DURATION:PT1H
X-Robots-Tag:noindex
X-PUBLISHED-TTL:PT1H
BEGIN:VTIMEZONE
TZID:America/New_York
BEGIN:DAYLIGHT
TZOFFSETFROM:-0500
TZOFFSETTO:-0400
TZNAME:EDT
DTSTART:20210314T070000
END:DAYLIGHT
BEGIN:STANDARD
TZOFFSETFROM:-0400
TZOFFSETTO:-0500
TZNAME:EST
DTSTART:20211107T060000
END:STANDARD
BEGIN:DAYLIGHT
TZOFFSETFROM:-0500
TZOFFSETTO:-0400
TZNAME:EDT
DTSTART:20220313T070000
END:DAYLIGHT
BEGIN:STANDARD
TZOFFSETFROM:-0400
TZOFFSETTO:-0500
TZNAME:EST
DTSTART:20221106T060000
END:STANDARD
BEGIN:DAYLIGHT
TZOFFSETFROM:-0500
TZOFFSETTO:-0400
TZNAME:EDT
DTSTART:20230312T070000
END:DAYLIGHT
BEGIN:STANDARD
TZOFFSETFROM:-0400
TZOFFSETTO:-0500
TZNAME:EST
DTSTART:20231105T060000
END:STANDARD
END:VTIMEZONE
BEGIN:VEVENT
DTSTART;TZID=America/New_York:20220215T130000
DTEND;TZID=America/New_York:20220215T143000
DTSTAMP:20260422T162213
CREATED:20220120T230039Z
LAST-MODIFIED:20220208T201443Z
UID:14374-1644930000-1644935400@sondraray.com
SUMMARY:ASK SONDRA & MARKUS (About Relationships)
DESCRIPTION:“ASK SONDRA & MARKUS” \n(About Relationships) \n\nAn Hour of Q & A on Relationships!\n  \nThis 1 Hour of Questions and Answers will help you “get clear” about your Relationships in ways you may not have considered before. Bring your “questions” to these two dynamic international Teachers who specialize in creating Relationships that are Divine\, Deeply Connected\, Purposeful\, Fully Communicative\, and “Conflict-Free.”\n \n\nLive Over ZOOM! TUESDAY\, February 15th\, starting 1PM EST USA \n(10AM PST USA; 6PM London; 7PM Copenhagen; 8PM Tallinn; 10PM Dubai; 5AM WED. Melbourne\, AU) \n  \n \nREGISTER BELOW:\nTERMS: This ZOOM Session will be recorded. All Participants give their Consent to be Recorded and to Allow this recording to be used by Immortal Ray Productions for Educational and Outreach Purposes. \n\n\nCheck for your receipt after registration in your email inbox. Check SPAM folder if you do not see it. The LOGIN info  for ASK SONDRA & MARKUS will be at the top of your Registration Receipt.
URL:https://sondraray.com/programs-quests/ask-sondra-markus-about-relationships/
LOCATION:ZOOM
CATEGORIES:Lectures,Programs
ATTACH;FMTTYPE=image/jpeg:https://sondraray.com/wp-content/uploads/2022/01/ASK-SONDRA-MARKUS-1.jpg
END:VEVENT
END:VCALENDAR