BEGIN:VCALENDAR
VERSION:2.0
PRODID:-//Sondra Ray Loving Relationships / Liberation Breathing - ECPv6.15.20//NONSGML v1.0//EN
CALSCALE:GREGORIAN
METHOD:PUBLISH
X-WR-CALNAME:Sondra Ray Loving Relationships / Liberation Breathing
X-ORIGINAL-URL:https://sondraray.com
X-WR-CALDESC:Events for Sondra Ray Loving Relationships / Liberation Breathing
REFRESH-INTERVAL;VALUE=DURATION:PT1H
X-Robots-Tag:noindex
X-PUBLISHED-TTL:PT1H
BEGIN:VTIMEZONE
TZID:America/New_York
BEGIN:DAYLIGHT
TZOFFSETFROM:-0500
TZOFFSETTO:-0400
TZNAME:EDT
DTSTART:20210314T070000
END:DAYLIGHT
BEGIN:STANDARD
TZOFFSETFROM:-0400
TZOFFSETTO:-0500
TZNAME:EST
DTSTART:20211107T060000
END:STANDARD
BEGIN:DAYLIGHT
TZOFFSETFROM:-0500
TZOFFSETTO:-0400
TZNAME:EDT
DTSTART:20220313T070000
END:DAYLIGHT
BEGIN:STANDARD
TZOFFSETFROM:-0400
TZOFFSETTO:-0500
TZNAME:EST
DTSTART:20221106T060000
END:STANDARD
BEGIN:DAYLIGHT
TZOFFSETFROM:-0500
TZOFFSETTO:-0400
TZNAME:EDT
DTSTART:20230312T070000
END:DAYLIGHT
BEGIN:STANDARD
TZOFFSETFROM:-0400
TZOFFSETTO:-0500
TZNAME:EST
DTSTART:20231105T060000
END:STANDARD
END:VTIMEZONE
BEGIN:VEVENT
DTSTART;TZID=America/New_York:20220205T130000
DTEND;TZID=America/New_York:20220205T150000
DTSTAMP:20260422T162124
CREATED:20211130T161147Z
LAST-MODIFIED:20211230T091606Z
UID:13996-1644066000-1644073200@sondraray.com
SUMMARY:BREATHE WITH SONDRA RAY FEBRUARY 5
DESCRIPTION:“Breathe with Sondra Ray”\nJoin the “Mother of Rebirthing” \nfor this powerful Session of Liberation Breathing. \nALL OVER USA\, SOUTH AM\, UK\, EU\, and BEYOND\n \nSATURDAY\, FEBRUARY 5th\, 2022\n  \n1:00 PM Eastern Standard Time (EST) USA \n\n\nTIMES in USA:\nNOON Central Standard Time USA\n11AM Mountain Standard Time USA\n10AM Pacific Standard Time USA\n8AM  Hawaii Time  USA\nIn EUROPE & MIDDLE EAST\n6PM London Time \n7PM Amsterdam\, NL\n7PM Köln\, DE\n7PM Copenhagen\, DK\n8PM Tallinn\, Estonia\n\nWhat people are saying about their  BREATHE WITH SONDRA RAY: \n“I felt like 1000 pounds had been lifted from my chest. I felt at one with everything and even my arthritis and stiffness in my body were so much better. It was the most powerful breath work session I had ever experienced. I went to sleep feeling like I was being cradled in the Mother’s arms\, and so grateful to be alive.” \nMS from HAWAII\n\n\nThere Will Be a Talk before the Breathe:\nCREATING A CONFLICT-FREE RELATIONSHIP\nSondra and Markus Ray will guide you \nthrough a breathwork experience that can help you \nshift and transform your current relationship\ninto greater and greater realms of satisfaction.\nSet Yourself Up Like this for the Breathe over ZOOM:\n \n  \n\n“BREATHE WITH SONDRA RAY” \nShe will introduce you to \nthe Power of the DIVINE FEMININE\nin the Liberation Breathing Process. \n  \n\nTICKETS BELOW\n\n  \n  \nREGISTER BELOW by Purchasing your Ticket.\nTHE “JOIN LINK” AND PARTICIPATION GUIDELINES \nare sent with your INVOICE RECEIPT \nimmediately after Registration.\n 
URL:https://sondraray.com/programs-quests/breathe-with-sondra-ray-february/
LOCATION:ONLINE
CATEGORIES:Group Breathes,Lectures,Seminars
ATTACH;FMTTYPE=image/jpeg:https://sondraray.com/wp-content/uploads/2021/11/BREATHE-WITH-SONDRA-RAY.jpg
END:VEVENT
END:VCALENDAR