BEGIN:VCALENDAR
VERSION:2.0
PRODID:-//Sondra Ray Loving Relationships / Liberation Breathing - ECPv6.15.20//NONSGML v1.0//EN
CALSCALE:GREGORIAN
METHOD:PUBLISH
X-WR-CALNAME:Sondra Ray Loving Relationships / Liberation Breathing
X-ORIGINAL-URL:https://sondraray.com
X-WR-CALDESC:Events for Sondra Ray Loving Relationships / Liberation Breathing
REFRESH-INTERVAL;VALUE=DURATION:PT1H
X-Robots-Tag:noindex
X-PUBLISHED-TTL:PT1H
BEGIN:VTIMEZONE
TZID:America/New_York
BEGIN:DAYLIGHT
TZOFFSETFROM:-0500
TZOFFSETTO:-0400
TZNAME:EDT
DTSTART:20200308T070000
END:DAYLIGHT
BEGIN:STANDARD
TZOFFSETFROM:-0400
TZOFFSETTO:-0500
TZNAME:EST
DTSTART:20201101T060000
END:STANDARD
BEGIN:DAYLIGHT
TZOFFSETFROM:-0500
TZOFFSETTO:-0400
TZNAME:EDT
DTSTART:20210314T070000
END:DAYLIGHT
BEGIN:STANDARD
TZOFFSETFROM:-0400
TZOFFSETTO:-0500
TZNAME:EST
DTSTART:20211107T060000
END:STANDARD
BEGIN:DAYLIGHT
TZOFFSETFROM:-0500
TZOFFSETTO:-0400
TZNAME:EDT
DTSTART:20220313T070000
END:DAYLIGHT
BEGIN:STANDARD
TZOFFSETFROM:-0400
TZOFFSETTO:-0500
TZNAME:EST
DTSTART:20221106T060000
END:STANDARD
BEGIN:DAYLIGHT
TZOFFSETFROM:-0500
TZOFFSETTO:-0400
TZNAME:EDT
DTSTART:20230312T070000
END:DAYLIGHT
BEGIN:STANDARD
TZOFFSETFROM:-0400
TZOFFSETTO:-0500
TZNAME:EST
DTSTART:20231105T060000
END:STANDARD
END:VTIMEZONE
BEGIN:VEVENT
DTSTART;TZID=America/New_York:20211031T120000
DTEND;TZID=America/New_York:20220114T133000
DTSTAMP:20260422T190331
CREATED:20211025T175505Z
LAST-MODIFIED:20211025T201734Z
UID:13749-1635681600-1642167000@sondraray.com
SUMMARY:THE POWER OF SILENCE
DESCRIPTION:“The Power of Silence”\na talk by \nMarkus Ray \n\n given over \n \n  \nThis Lecture will be live on SUNDAY\, OCTOBER 31\, 2021 \n12:00 NOON Eastern USA Time (5PM London; 6PM Central EU; 7PM Eastern EU)\nAttend in Person or Purchase the RECORDING below\, \nand listen at your own leisure.\n\n\nLINDA L. from Germany Writes: \n\nI am still and again amazed by the stories and your presence Markus Ray\nI really loved your Lecture on lesson #168 and #169 of ACIM. It was exactly what I needed to hear and to be reminded of. Wow. Yes.\nGrace was guiding me to attend\, grace I find in every step through:\n1) Committing to the process of complete forgiveness\n2) Finding gratitude even in the darkest hour of soul and experience\, trusting\, that all is part of the big circle of “god wanting me to have that experience to learn exactly that way”\n3) Constantly practicing to stay present with what it.\nWow. I got some really helpful ideas during the lecture how to integrate it in my daily life and how to really practice it through new habits. \nThank you so much! \nLINDA L. \n\n\n  \n\n“Silence is something that we all need. It is the atmosphere in which we make contact with  the Divine Forces that are moving our lives.  Even amidst our busy-ness\, we can practice this relationship with silence. By doing this we open up a means of inner guidance that we may not have known we have. This channel of being quiet is one of our greatest assets of  having a Spiritual Life. ”  — MARKUS RAY\n\nJoin MARKUS to explore the Power of Silence. \nThis Sunday\, OCT 31st\, at 12:00 NOON  Eastern USA Time.\n  \nListen LIVE over ZOOM or Receive the recording afterwards. \n(Purchase of recording available here until JAN 14\, 2022)\n  \n  \nListen to this key lecture\, and make contact with Power of Silence in your life.\n\nAfter Purchasing your ticket\, you will receive the link for talk on your receipt. \nThe Cost is based on your financial ability to support this spiritual work and mission of Sondra Ray & Markus Ray\n\n(If you do not see your receipt in your Inbox\, check your Junk folder.) \n(You will also receive a 2nd email from our staff to confirm your time.)
URL:https://sondraray.com/programs-quests/the-power-of-silence/
CATEGORIES:Lectures
ATTACH;FMTTYPE=image/jpeg:https://sondraray.com/wp-content/uploads/2021/10/The-POWER-of-SILENCE-1.jpg
END:VEVENT
END:VCALENDAR